﻿BEGIN:VCALENDAR
VERSION:2.0
PRODID:-//Stadttunnel Freiburg - ECPv5.16.4//NONSGML v1.0//EN
CALSCALE:GREGORIAN
METHOD:PUBLISH
X-ORIGINAL-URL:https://stadttunnel.de
X-WR-CALDESC:Veranstaltungen für Stadttunnel Freiburg
REFRESH-INTERVAL;VALUE=DURATION:PT1H
X-Robots-Tag:noindex
X-PUBLISHED-TTL:PT1H
BEGIN:VTIMEZONE
TZID:Europe/Berlin
BEGIN:DAYLIGHT
TZOFFSETFROM:+0100
TZOFFSETTO:+0200
TZNAME:CEST
DTSTART:20210328T010000
END:DAYLIGHT
BEGIN:STANDARD
TZOFFSETFROM:+0200
TZOFFSETTO:+0100
TZNAME:CET
DTSTART:20211031T010000
END:STANDARD
END:VTIMEZONE
BEGIN:VEVENT
DTSTART;TZID=Europe/Berlin:20210923T193000
DTEND;TZID=Europe/Berlin:20210923T220000
DTSTAMP:20260426T044446
CREATED:20210917T124518Z
LAST-MODIFIED:20210917T124518Z
UID:1705-1632425400-1632434400@stadttunnel.de
SUMMARY:Film AUTOLAND ABGEBRANNT
DESCRIPTION:Link zum Kino
URL:https://stadttunnel.de/event/film-autoland-abgebrannt/
LOCATION:Kommunales Kino\, Uracher Straße\, Freiburg\, 79102
END:VEVENT
END:VCALENDAR