﻿BEGIN:VCALENDAR
VERSION:2.0
PRODID:-//Stadttunnel Freiburg - ECPv5.16.4//NONSGML v1.0//EN
CALSCALE:GREGORIAN
METHOD:PUBLISH
X-WR-CALNAME:Stadttunnel Freiburg
X-ORIGINAL-URL:https://stadttunnel.de
X-WR-CALDESC:Veranstaltungen für Stadttunnel Freiburg
REFRESH-INTERVAL;VALUE=DURATION:PT1H
X-Robots-Tag:noindex
X-PUBLISHED-TTL:PT1H
BEGIN:VTIMEZONE
TZID:Europe/Berlin
BEGIN:DAYLIGHT
TZOFFSETFROM:+0100
TZOFFSETTO:+0200
TZNAME:CEST
DTSTART:20220327T010000
END:DAYLIGHT
BEGIN:STANDARD
TZOFFSETFROM:+0200
TZOFFSETTO:+0100
TZNAME:CET
DTSTART:20221030T010000
END:STANDARD
END:VTIMEZONE
BEGIN:VEVENT
DTSTART;TZID=Europe/Berlin:20220314T183000
DTEND;TZID=Europe/Berlin:20220314T200000
DTSTAMP:20260425T193901
CREATED:20220215T072851Z
LAST-MODIFIED:20220215T072956Z
UID:1832-1647282600-1647288000@stadttunnel.de
SUMMARY:(Wie) wird der Bundesverkehrswegeplan derzeit überprüft und was kann dies für  eine Stadtautobahn und B31 West bedeuten?
DESCRIPTION:„(Wie) wird der Bundesverkehrswegeplan derzeit überprüft und was kann dies für  eine Stadtautobahn und B31 West bedeuten?\nVon den untauglichen Kosten-Nutzen-Analysen zu neuen Zielen und Prioritäten.“\n\n\nOnline-Veranstaltung mit Impuls von Werner Reh\, BUND.\nWerner Rehist ein Experte für den Bundesverkehrswegeplan bzw. die Neubewertung des Plans.\n\nAm Montag\, den 14.3.2022 um 18:30 Uhr\n\nHier geht es zur Anmeldung\n\nVeranstalter: Initiative Statt Tunnel und B31west-neindanke\nmit administrativer Unterstützung (Anmeldeformular\, Zoomraum) von Klimaschutz-im-Bundestag.
URL:https://stadttunnel.de/event/wie-wird-der-bundesverkehrswegeplan-derzeit-ueberprueft-und-was-kann-dies-fuer-eine-stadtautobahn-und-b31-west-bedeuten/
LOCATION:online
END:VEVENT
END:VCALENDAR