﻿BEGIN:VCALENDAR
VERSION:2.0
PRODID:-//Stadttunnel Freiburg - ECPv5.16.4//NONSGML v1.0//EN
CALSCALE:GREGORIAN
METHOD:PUBLISH
X-WR-CALNAME:Stadttunnel Freiburg
X-ORIGINAL-URL:https://stadttunnel.de
X-WR-CALDESC:Veranstaltungen für Stadttunnel Freiburg
REFRESH-INTERVAL;VALUE=DURATION:PT1H
X-Robots-Tag:noindex
X-PUBLISHED-TTL:PT1H
BEGIN:VTIMEZONE
TZID:Europe/Berlin
BEGIN:DAYLIGHT
TZOFFSETFROM:+0100
TZOFFSETTO:+0200
TZNAME:CEST
DTSTART:20220327T010000
END:DAYLIGHT
BEGIN:STANDARD
TZOFFSETFROM:+0200
TZOFFSETTO:+0100
TZNAME:CET
DTSTART:20221030T010000
END:STANDARD
END:VTIMEZONE
BEGIN:VEVENT
DTSTART;TZID=Europe/Berlin:20220329T180000
DTEND;TZID=Europe/Berlin:20220329T200000
DTSTAMP:20260425T175728
CREATED:20220314T194121Z
LAST-MODIFIED:20220314T194121Z
UID:1887-1648576800-1648584000@stadttunnel.de
SUMMARY:Wie könnte eine fahrleistungsabhängige Nutzungsgebühr (Pkw-Maut) ausgestaltet werden?
DESCRIPTION:
URL:https://stadttunnel.de/event/wie-koennte-eine-fahrleistungsabhaengige-nutzungsgebuehr-pkw-maut-ausgestaltet-werden/
LOCATION:online
END:VEVENT
END:VCALENDAR