﻿BEGIN:VCALENDAR
VERSION:2.0
PRODID:-//Stadttunnel Freiburg - ECPv5.16.4//NONSGML v1.0//EN
CALSCALE:GREGORIAN
METHOD:PUBLISH
X-ORIGINAL-URL:https://stadttunnel.de
X-WR-CALDESC:Veranstaltungen für Stadttunnel Freiburg
REFRESH-INTERVAL;VALUE=DURATION:PT1H
X-Robots-Tag:noindex
X-PUBLISHED-TTL:PT1H
BEGIN:VTIMEZONE
TZID:Europe/Berlin
BEGIN:DAYLIGHT
TZOFFSETFROM:+0100
TZOFFSETTO:+0200
TZNAME:CEST
DTSTART:20220327T010000
END:DAYLIGHT
BEGIN:STANDARD
TZOFFSETFROM:+0200
TZOFFSETTO:+0100
TZNAME:CET
DTSTART:20221030T010000
END:STANDARD
END:VTIMEZONE
BEGIN:VEVENT
DTSTART;TZID=Europe/Berlin:20220429T193000
DTEND;TZID=Europe/Berlin:20220429T193000
DTSTAMP:20260425T164527
CREATED:20220425T095633Z
LAST-MODIFIED:20220425T095633Z
UID:1927-1651260600-1651260600@stadttunnel.de
SUMMARY:WIR SIND NOCH LANGE NICHT FERTIG - Themenabend im Kommunalen Kino
DESCRIPTION:Themenabend WIR SIND NOCH LANGE NICHT FERTIG im Kommunalen Kino Freiburg Schwerpunkt B 31 UND DIE VERKEHRSWENDE – GESCHICHTE UND AKTUALITÄT  \nDOKUMENTARFILM. ANSCHLIESSEND DISKUSSION MIT FILMEMACHER SIGGI HELD\, REINHILD DETTMER-FINKE (STADTTUNNEL-INITIATIVE)\, FELICIA GRAUBNER (BUND-JUGEND). MODERATION: WILFRIED TELKÄMPER \nLink: https://www.koki-freiburg.de/themenabend-b-31/ \n 
URL:https://stadttunnel.de/event/wir-sind-noch-lange-nicht-fertig-themenabend-im-kommunalen-kino/
LOCATION:Kommunales Kino\, Uracher Straße\, Freiburg\, 79102
END:VEVENT
END:VCALENDAR