﻿BEGIN:VCALENDAR
VERSION:2.0
PRODID:-//Stadttunnel Freiburg - ECPv5.16.4//NONSGML v1.0//EN
CALSCALE:GREGORIAN
METHOD:PUBLISH
X-WR-CALNAME:Stadttunnel Freiburg
X-ORIGINAL-URL:https://stadttunnel.de
X-WR-CALDESC:Veranstaltungen für Stadttunnel Freiburg
REFRESH-INTERVAL;VALUE=DURATION:PT1H
X-Robots-Tag:noindex
X-PUBLISHED-TTL:PT1H
BEGIN:VTIMEZONE
TZID:Europe/Berlin
BEGIN:DAYLIGHT
TZOFFSETFROM:+0100
TZOFFSETTO:+0200
TZNAME:CEST
DTSTART:20220327T010000
END:DAYLIGHT
BEGIN:STANDARD
TZOFFSETFROM:+0200
TZOFFSETTO:+0100
TZNAME:CET
DTSTART:20221030T010000
END:STANDARD
END:VTIMEZONE
BEGIN:VEVENT
DTSTART;TZID=Europe/Berlin:20220513T180000
DTEND;TZID=Europe/Berlin:20220513T180000
DTSTAMP:20260425T164326
CREATED:20220506T095413Z
LAST-MODIFIED:20220506T103917Z
UID:2014-1652464800-1652464800@stadttunnel.de
SUMMARY:Verkehrswende jetzt gemeinsam anpacken - Vortrag Tobi Rosswog
DESCRIPTION:Info-Flyer \nEin Abend voller bunter und kreativer Aktionsideen mit Tobi Rosswog; an diesem Abend soll auch über mögliche gemeinsame Aktionen in Freiburg an einem bundesweiten Aktionstag am 18./19. Juni der Initiative Mobilitätswende gesprochen werden
URL:https://stadttunnel.de/event/verkehrswende-jetzt-gemeinsam-anpacken-vortrag-tobi-rosswog/
LOCATION:Uni Freiburg – KG1 – HS1098
END:VEVENT
END:VCALENDAR