﻿BEGIN:VCALENDAR
VERSION:2.0
PRODID:-//Stadttunnel Freiburg - ECPv5.16.4//NONSGML v1.0//EN
CALSCALE:GREGORIAN
METHOD:PUBLISH
X-ORIGINAL-URL:https://stadttunnel.de
X-WR-CALDESC:Veranstaltungen für Stadttunnel Freiburg
REFRESH-INTERVAL;VALUE=DURATION:PT1H
X-Robots-Tag:noindex
X-PUBLISHED-TTL:PT1H
BEGIN:VTIMEZONE
TZID:Europe/Berlin
BEGIN:DAYLIGHT
TZOFFSETFROM:+0100
TZOFFSETTO:+0200
TZNAME:CEST
DTSTART:20220327T010000
END:DAYLIGHT
BEGIN:STANDARD
TZOFFSETFROM:+0200
TZOFFSETTO:+0100
TZNAME:CET
DTSTART:20221030T010000
END:STANDARD
END:VTIMEZONE
BEGIN:VEVENT
DTSTART;TZID=Europe/Berlin:20220529T120000
DTEND;TZID=Europe/Berlin:20220529T160000
DTSTAMP:20260425T164559
CREATED:20220425T100927Z
LAST-MODIFIED:20220428T122903Z
UID:1933-1653825600-1653840000@stadttunnel.de
SUMMARY:Klimatische
DESCRIPTION:Klimatische auf der Schillerstrasse (geplant)
URL:https://stadttunnel.de/event/klimatische-2/
LOCATION:Baden-Württemberg
END:VEVENT
END:VCALENDAR