﻿BEGIN:VCALENDAR
VERSION:2.0
PRODID:-//Stadttunnel Freiburg - ECPv5.16.4//NONSGML v1.0//EN
CALSCALE:GREGORIAN
METHOD:PUBLISH
X-WR-CALNAME:Stadttunnel Freiburg
X-ORIGINAL-URL:https://stadttunnel.de
X-WR-CALDESC:Veranstaltungen für Stadttunnel Freiburg
REFRESH-INTERVAL;VALUE=DURATION:PT1H
X-Robots-Tag:noindex
X-PUBLISHED-TTL:PT1H
BEGIN:VTIMEZONE
TZID:Europe/Berlin
BEGIN:DAYLIGHT
TZOFFSETFROM:+0100
TZOFFSETTO:+0200
TZNAME:CEST
DTSTART:20220327T010000
END:DAYLIGHT
BEGIN:STANDARD
TZOFFSETFROM:+0200
TZOFFSETTO:+0100
TZNAME:CET
DTSTART:20221030T010000
END:STANDARD
END:VTIMEZONE
BEGIN:VEVENT
DTSTART;TZID=Europe/Berlin:20220630T190000
DTEND;TZID=Europe/Berlin:20220630T190000
DTSTAMP:20260425T134738
CREATED:20220623T114950Z
LAST-MODIFIED:20220623T114950Z
UID:2135-1656615600-1656615600@stadttunnel.de
SUMMARY:Statttunnel und forum dreisamufer laden ein
DESCRIPTION:in Präsenz ! \n\nBericht über Aktivitäten von Statttunnel und forum dreisamufer\nVortrag von Kurt Höllwarth vom forum dreisamufer zum Transitverbot für den Schwerlastverkehr
URL:https://stadttunnel.de/event/statttunnel-und-forum-dreisamufer-laden-ein/
LOCATION:Gasthaus Schützen\, Schützenallee 12\, 79102 Freiburg
END:VEVENT
END:VCALENDAR