﻿BEGIN:VCALENDAR
VERSION:2.0
PRODID:-//Stadttunnel Freiburg - ECPv5.16.4//NONSGML v1.0//EN
CALSCALE:GREGORIAN
METHOD:PUBLISH
X-ORIGINAL-URL:https://stadttunnel.de
X-WR-CALDESC:Veranstaltungen für Stadttunnel Freiburg
REFRESH-INTERVAL;VALUE=DURATION:PT1H
X-Robots-Tag:noindex
X-PUBLISHED-TTL:PT1H
BEGIN:VTIMEZONE
TZID:Europe/Berlin
BEGIN:DAYLIGHT
TZOFFSETFROM:+0100
TZOFFSETTO:+0200
TZNAME:CEST
DTSTART:20240331T010000
END:DAYLIGHT
BEGIN:STANDARD
TZOFFSETFROM:+0200
TZOFFSETTO:+0100
TZNAME:CET
DTSTART:20241027T010000
END:STANDARD
END:VTIMEZONE
BEGIN:VEVENT
DTSTART;TZID=Europe/Berlin:20240708T190000
DTEND;TZID=Europe/Berlin:20240708T210000
DTSTAMP:20260425T204047
CREATED:20240626T163453Z
LAST-MODIFIED:20240626T163453Z
UID:3464-1720465200-1720472400@stadttunnel.de
SUMMARY:Informationsabend & Stammtisch
DESCRIPTION:Thema: Verkehrsreduzierende Massnahmen in Freiburg\, besonders auf der B31 (Zubringer Mitte\, innerstädtisch)\n\n\n\nFachvortrag von Kurt Höllwarth: \n\n\n          „Der Lärmaktionsplan 2024 – eine Möglichkeit zur Verkehrsreduzierung“ \n\n\nAuswertung unserer „Wahlprüfsteine“ auch im Hinblick auf Forderungen an den neuen GR\n weitere Aktionen \nAussprache & Diskussion
URL:https://stadttunnel.de/event/informationsabend-stammtisch/
LOCATION:Gasthaus Schützen\, Schützenallee 12\, 79102 Freiburg
END:VEVENT
END:VCALENDAR