﻿BEGIN:VCALENDAR
VERSION:2.0
PRODID:-//Stadttunnel Freiburg - ECPv5.16.4//NONSGML v1.0//EN
CALSCALE:GREGORIAN
METHOD:PUBLISH
X-WR-CALNAME:Stadttunnel Freiburg
X-ORIGINAL-URL:https://stadttunnel.de
X-WR-CALDESC:Veranstaltungen für Stadttunnel Freiburg
REFRESH-INTERVAL;VALUE=DURATION:PT1H
X-Robots-Tag:noindex
X-PUBLISHED-TTL:PT1H
BEGIN:VTIMEZONE
TZID:Europe/Berlin
BEGIN:DAYLIGHT
TZOFFSETFROM:+0100
TZOFFSETTO:+0200
TZNAME:CEST
DTSTART:20240331T010000
END:DAYLIGHT
BEGIN:STANDARD
TZOFFSETFROM:+0200
TZOFFSETTO:+0100
TZNAME:CET
DTSTART:20241027T010000
END:STANDARD
BEGIN:DAYLIGHT
TZOFFSETFROM:+0100
TZOFFSETTO:+0200
TZNAME:CEST
DTSTART:20250330T010000
END:DAYLIGHT
BEGIN:STANDARD
TZOFFSETFROM:+0200
TZOFFSETTO:+0100
TZNAME:CET
DTSTART:20251026T010000
END:STANDARD
BEGIN:DAYLIGHT
TZOFFSETFROM:+0100
TZOFFSETTO:+0200
TZNAME:CEST
DTSTART:20260329T010000
END:DAYLIGHT
BEGIN:STANDARD
TZOFFSETFROM:+0200
TZOFFSETTO:+0100
TZNAME:CET
DTSTART:20261025T010000
END:STANDARD
END:VTIMEZONE
BEGIN:VEVENT
DTSTART;TZID=Europe/Berlin:20260424T130000
DTEND;TZID=Europe/Berlin:20260424T130000
DTSTAMP:20260424T141516
CREATED:20260413T172413Z
LAST-MODIFIED:20260413T172500Z
UID:3670-1777035600-1777035600@stadttunnel.de
SUMMARY:FFF - immer Freitags!
DESCRIPTION:
URL:https://stadttunnel.de/event/fff-immer-freitags-2/
LOCATION:Platz der Alten Synagoge\, Bertoldstraße 30\, Freiburg\, Baden-Württemberg\, 79098\, Deutschland
END:VEVENT
BEGIN:VEVENT
DTSTART;TZID=Europe/Berlin:20260420T190000
DTEND;TZID=Europe/Berlin:20260420T210000
DTSTAMP:20260424T141516
CREATED:20260323T114143Z
LAST-MODIFIED:20260323T114143Z
UID:3658-1776711600-1776718800@stadttunnel.de
SUMMARY:Öffentliche Podiumsdiskussion zum Thema Klimaschutz in der Stadt
DESCRIPTION:Zitiert von der Seite der EH Freiburg: \nDiskussion zu den drängenden Fragen der kommunalen Klimapolitik\n\n\n\n\nAm 20. April 2026 findet eine öffentliche Podiumsdiskussion zum Thema Klimaschutz in der Stadt auf dem Campus der EH Freiburg statt. Ziel ist ein faktenbasiertes Gespräch mit den OB-Kandidat*innen\, bei dem Bürger*innen sowie Vertreter*innen lokaler Klima- und Umweltinitiativen ihre Perspektiven einbringen können. \nVeranstaltet wird die Diskussion von Gabi Dierdorf\, Initiative Statttunnel.de und Prof.in Dr.in Barbara Schramkowski\, seit 2025 Nachhaltigkeitsbeauftragte der Fakultät Sozialwesen an der DHBW Villingen-Schwenningen. \n  \nModeration\n\nAstrid Schaffert vom Institut Zukunft KlimaSozial. Sie verfügt über umfangreiche Erfahrung in der Leitung von Klimadiskussionen und wird gemeinsam mit den Teilnehmenden die wichtigsten Themenfelder von Verkehr und Energie bis zu sozial gerechten Klimamaßnahmen beleuchten.\n\nTeilnehmende\n\nMartin Horn\nMonika Stein\nDejan Mihajlović\n\nVeranstalterinnen\n\nGabi Dierdorf\, Initiative Statttunnel.de\nProf.in Dr.in Barbara Schramkowski\, ist seit 2025 Nachhaltigkeitsbeauftragte der Fakultät Sozialwesen an der DHBW Villingen-Schwenningen. In ihren aktuellen Projekten forscht sie im Rahmen eines Forschungsprojektes zu Umwelt- und klimasensibler Kinder- und Jugendhilfe.\n\nTermin\nDie Veranstaltung findet statt am 20.04.2026 von 19:00 bis 21:00 Uhr. \nOrt\nEvangelische Hochschule Freiburg\nGebäude B\, Hörsaal\nBugginger Straße 38\, 79114 Freiburg \nEine Anmeldung ist nicht erforderlich. Der Eintritt ist frei.
URL:https://stadttunnel.de/event/oeffentliche-podiumsdiskussion-zum-thema-klimaschutz-in-der-stadt/
LOCATION:Evangelische Hochschule Freiburg\, Bugginger Straße 38\, Freiburg\, 79114
END:VEVENT
BEGIN:VEVENT
DTSTART;TZID=Europe/Berlin:20260418T190000
DTEND;TZID=Europe/Berlin:20260418T190000
DTSTAMP:20260424T141516
CREATED:20260413T171501Z
LAST-MODIFIED:20260413T171501Z
UID:3664-1776538800-1776538800@stadttunnel.de
SUMMARY:Sanierung statt Abriss?
DESCRIPTION:
URL:https://stadttunnel.de/event/sanierung-statt-abriss/
LOCATION:Gasthaus Schützen\, Schützenallee 12\, 79102 Freiburg
END:VEVENT
BEGIN:VEVENT
DTSTART;TZID=Europe/Berlin:20260417T130000
DTEND;TZID=Europe/Berlin:20260417T130000
DTSTAMP:20260424T141516
CREATED:20260413T171850Z
LAST-MODIFIED:20260413T172542Z
UID:3667-1776430800-1776430800@stadttunnel.de
SUMMARY:FFF - immer Freitags!
DESCRIPTION:
URL:https://stadttunnel.de/event/fff-immer-freitags/
LOCATION:Platz der Alten Synagoge\, Bertoldstraße 30\, Freiburg\, Baden-Württemberg\, 79098\, Deutschland
END:VEVENT
BEGIN:VEVENT
DTSTART;TZID=Europe/Berlin:20260227T120000
DTEND;TZID=Europe/Berlin:20260227T120000
DTSTAMP:20260424T141516
CREATED:20260127T120222Z
LAST-MODIFIED:20260127T120222Z
UID:3653-1772193600-1772193600@stadttunnel.de
SUMMARY:FFF Klimastreik
DESCRIPTION:Aufruf von FFF: \nFridays For Future – Wöchentliche Klimastreiksvor den Landtags- und OB-Wahlen!\nLiebe Klimafreund*innen\,\n\nIhr lest richtig! Unsere Freitags-Demos sind zurück und das aus wichtigem Anlass:Wir Freiburger*innen werden im März und April gleich zweimal zur Urne gebeten – und entscheiden dabei über die Zukunft unseres Bundeslandes und unserer Stadt! \n⚡Doch zwischen Wirtschaft und Kulturkampf gerät das große Thema unserer Zeit in den Hintergrund: Das Klima. Dabei sind gerade diese Wahlen entscheidend\, um nochmal die Kurve zu kriegen. Denn genau hier\, im Ländle wie in der „Green City“ werden Maßnahmen umgesetzt und Ziele Realität. Hier muss die Wärmewende klappen\, der Wald geschützt und die Industrien klimaneutral gemacht werden.\n\n\n➡️Deswegen gehen wir auf die Straße – nicht einmal\, nicht zweimal\, nein: Viermal hintereinander und das vor BEIDEN Wahlen! Da wollen wir euch dabei haben und dafür brauchen wir auch eure Unterstützung:\n– Bringt euch ein! Wir wollen eure Ideen und Forderungen mitnehmen\, also schreibt uns mit Wünschen für Redner*innen\, oder haltet selbst welche! Wir sind offen für alle Aktionen und Gruppen\, die Lust haben\, mit uns ein buntes und lautes Zeichen für die Zukunft zu setzen! – Kommt zu vielen Demos! Gemeinsam lassen wir nicht nach und nehmen die Politiker*innen in die Verantwortung. Besonders am 27.02.\, wenn wir in vier Bundesländern zeitgleich streiken\, brauchen wir euch auf der Straße!
URL:https://stadttunnel.de/event/fff-klimastreik/
LOCATION:Platz der Alten Synagoge\, Bertoldstraße 30\, Freiburg\, Baden-Württemberg\, 79098\, Deutschland
ORGANIZER;CN="Fridays%20for%20Future%20Freiburg":MAILTO:freiburg@fridaysforfuture.de
END:VEVENT
BEGIN:VEVENT
DTSTART;TZID=Europe/Berlin:20251114T180000
DTEND;TZID=Europe/Berlin:20251114T180000
DTSTAMP:20260424T141516
CREATED:20251027T165626Z
LAST-MODIFIED:20251105T103453Z
UID:3640-1763143200-1763143200@stadttunnel.de
SUMMARY:Fridays Fo Future: #JustTransitionNow
DESCRIPTION:Fridays For Future Freiburg:\n\n\n\n\nIn zehn Tagen ist die zehnte Weltklimakonferenz und trotzdem eskaliert die Klimakrise weltweit. Vor allem Länder\, die am wenigsten zu ihr beitragen sind von ihr betroffen. Anstatt Menschen vor der Krise zu schützen\, profitieren dreckige Konzerne und fossile Politiker*innen global und national von der immer weiter angeheizten Klimakrise.\nDeutschland muss als eines der reichsten Länder der Welt Verantwortung für echten Klimaschutz übernehmen!\n\n\n\nDafür wollen wir am Freitag den 14.11. gemeinsam einstehen und zusammen mit Menschen auf der ganzen Welt auf die Straße gehen. Mit Blick auf die Landtagswahl nächstes Jahr\, haben wir konkrete Forderungen an das Land Baden Württemberg formuliert\, die wir an diesem Tag ebenfalls vorstellen.\n\nIn Freiburg treffen wir uns\, passend zu St Martin\, treffen wir uns um 18:00 Uhr am Platz der alten Synagoge zu einer Laternendemo!
URL:https://stadttunnel.de/event/globaler-klimastreik-3/
LOCATION:Platz der Alten Synagoge\, Bertoldstraße 30\, Freiburg\, Baden-Württemberg\, 79098\, Deutschland
ORGANIZER;CN="Fridays%20for%20Future%20Freiburg":MAILTO:freiburg@fridaysforfuture.de
END:VEVENT
BEGIN:VEVENT
DTSTART;TZID=Europe/Berlin:20250920T130000
DTEND;TZID=Europe/Berlin:20250920T160000
DTSTAMP:20260424T141516
CREATED:20250826T092031Z
LAST-MODIFIED:20250826T092555Z
UID:3629-1758373200-1758384000@stadttunnel.de
SUMMARY:Fridays For Future - #ExitGasEnterFuture
DESCRIPTION:FFF: „Wir gehen am 20. September gemeinsam auf die Straße und demonstrieren für eine klimagerechte\, lebenswerte Zukunft. Wir treffen uns um 13 Uhr am Stühlinger Kirchplatz für eine Kundgebung\, im Anschluss werden wir mit einer Laufdemo durch die Stadt ziehen. Kommt vorbei\, nehmt Familie und Freund*innen mit\, lasst uns unser Anliegen und die Demo groß machen!“ \nStatttunnel ist mit dabei!
URL:https://stadttunnel.de/event/fridays-for-future-exitgasenterfuture/
LOCATION:Stühlinger Kirchplatz
ORGANIZER;CN="Fridays%20for%20Future%20Freiburg":MAILTO:freiburg@fridaysforfuture.de
END:VEVENT
BEGIN:VEVENT
DTSTART;TZID=Europe/Berlin:20250328T190000
DTEND;TZID=Europe/Berlin:20250328T210000
DTSTAMP:20260424T141516
CREATED:20250317T120731Z
LAST-MODIFIED:20250317T120731Z
UID:3596-1743188400-1743195600@stadttunnel.de
SUMMARY:Asphalt knacken für die Schwammstadt - Eine Veranstaltung von den Freiblocks
DESCRIPTION:Asphalt knacken für die Schwammstadt!Gegen Hitze in der Stadt und Überflutungen nach Wolkenbrüchen hilft Entsiegelung: Die Asphaltknackerinnen aus in Zürich gehen Asphalt an den Kragen – zugunsten von mehr einheimischem Grün. Sie haben es besonders auf private Parkplätze\, Hinterhöfe und auch Firmenareale abgesehen.Nach der erfolgreichen Veranstaltung im letzten November lädt die Freiburger Freiblocks-Initiative in Kooperation mit dem Bürgerverein Mittel- und Unterwiehre zum 2. Vortragsabend ein:Bettina Walch\, Mitbegründerin der Asphaltknackerinnen\, wird von ihrer Arbeit in Zürich berichten und erklären\, warum entsiegelte Flächen so wichtig sind: Städte werden nicht nur schöner und artenreicher\, sondern auch widerstandsfähiger gegen die zunehmende Hitze und Starkregenfälle. Wie beim letzten Mal ist im Anschluss Zeit für Fragen und einen persönlichen Austausch in lockeren Runden. Neben dem Netzwerken lassen sich auch konkrete Projekte zum Asphaltknacken besprechen.Asphalt knacken für die SchwammstadtAm: Freitag\, 28. März 2025\, 19- 21 UhrOrt: Urachstr. 3 a\, 79102 Freiburg\, im Weingut A. Dilger \nDer Eintritt ist frei\, Spenden sind willkommen. Da der Platz begrenzt ist\, bitte anmelden vorab an: mail@freiblocks.de\n\n\n\n\n\n\n  \n 
URL:https://stadttunnel.de/event/asphalt-knacken-fuer-die-schwammstadt-eine-veranstaltung-von-den-freiblocks/
LOCATION:Baden-Württemberg
END:VEVENT
BEGIN:VEVENT
DTSTART;TZID=Europe/Berlin:20250320T183000
DTEND;TZID=Europe/Berlin:20250320T203000
DTSTAMP:20260424T141516
CREATED:20250317T112059Z
LAST-MODIFIED:20250317T121125Z
UID:3584-1742495400-1742502600@stadttunnel.de
SUMMARY:Kann Freiburg auch Schwammstadt?
DESCRIPTION:Wie kommt Freiburg auf dem Weg zur Schwammstadt voran? \nKönnen Bern und die Städte an Emscher und Ruhr ein Vorbild sein? \nEinladung zur Schwammstadt-Veranstaltung am 20. März 2025\n18:30 – 20:30\, im Hörsaal 1098\, Kollegiengebäude I der Uni Freiburg \nweltwassertag-2025-schwammstadt-veranstaltung
URL:https://stadttunnel.de/event/kann-freiburg-auch-schwammstadt/
LOCATION:Uni Freiburg – KG1 – HS1098
END:VEVENT
BEGIN:VEVENT
DTSTART;TZID=Europe/Berlin:20250314T190000
DTEND;TZID=Europe/Berlin:20250314T190000
DTSTAMP:20260424T141516
CREATED:20250221T102727Z
LAST-MODIFIED:20250221T102757Z
UID:3579-1741978800-1741978800@stadttunnel.de
SUMMARY:Krise in der Automobilindustrie und mögliche Transformation
DESCRIPTION:Die P4F haben gemeinsam mit dem DGB am 14.3. um 19 Uhr eine Veranstaltung zum Thema „Krise in der Automobilindustrie und mögliche Transformation“ organisiert und dazu  Klaus Mertens eingeladen. Der Fachreferent der IGM und Betriebsrat der ZF Friedrichshafen AG widmet sich dem Thema Krise\, Umweltschutz\, nötige – und mögliche- Transformation.\nVeranstaltungsflyer\nWer es nicht schafft\, kann eien ähnlichen Vortrag hier ansehen:\n https://www.protect-the-planet.de/en/event/2024-10-31-mertens-betriebe-und-gewerkschaften/
URL:https://stadttunnel.de/event/krise-in-der-automobilindustrie-und-moegliche-transformation/
LOCATION:DGB-Haus\, Friedrichstraße 41-43\, Freiburg\, 79098
END:VEVENT
BEGIN:VEVENT
DTSTART;TZID=Europe/Berlin:20250214T130000
DTEND;TZID=Europe/Berlin:20250214T130000
DTSTAMP:20260424T141516
CREATED:20241220T122439Z
LAST-MODIFIED:20250205T100519Z
UID:3556-1739538000-1739538000@stadttunnel.de
SUMMARY:Klimastreik
DESCRIPTION:Eine Woche vor der Wahl demonstrieren die FFF am 14. Februar 2025\, um 13 Uhr auf der Platz der Alten Synagoge.
URL:https://stadttunnel.de/event/klimastreik-2/
LOCATION:Platz der Alten Synagoge\, Bertoldstraße 30\, Freiburg\, Baden-Württemberg\, 79098\, Deutschland
END:VEVENT
BEGIN:VEVENT
DTSTART;TZID=Europe/Berlin:20250124T190000
DTEND;TZID=Europe/Berlin:20250124T190000
DTSTAMP:20260424T141516
CREATED:20250113T141502Z
LAST-MODIFIED:20250113T141618Z
UID:3564-1737745200-1737745200@stadttunnel.de
SUMMARY:Film-Doku "VerkehrsWendestadt Wolfsburg
DESCRIPTION:
URL:https://stadttunnel.de/event/film-doku-verkehrswendestadt-wolfsburg/
LOCATION:Uni Freiburg – KG1 – HS1098
END:VEVENT
BEGIN:VEVENT
DTSTART;TZID=Europe/Berlin:20241211T190000
DTEND;TZID=Europe/Berlin:20241211T190000
DTSTAMP:20260424T141516
CREATED:20241202T131309Z
LAST-MODIFIED:20241209T100637Z
UID:3542-1733943600-1733943600@stadttunnel.de
SUMMARY:BIS HIERHIN UND WIE WEITER? - Film im KoKi
DESCRIPTION:Die Klimabewegung scheint zunehmend an Akzeptanz zu verlieren\, obwohl die Klimakatastrophe weiter voran schreitet.\nEinige bringen große persönliche Opfer. Viele fühlen sich erschöpft vom jahrelangen Engagement. Wie soll es weiter gehen?\n\nDer preisgekrönte Film BIS HIERHIN UND WIE WEITER? stellt dazu die richtigen Fragen und regt zur Diskussion an.\nhttps://www.koki-freiburg.de/bis-hierhin-und-wie-weiter/
URL:https://stadttunnel.de/event/bis-hierhin-und-wie-weiter/
LOCATION:Kommunales Kino\, Uracher Straße\, Freiburg\, 79102
ATTACH;FMTTYPE=image/jpeg:https://stadttunnel.de/wp-content/uploads/2024/12/Bis-hierhin_KOKI_Film.jpeg
END:VEVENT
BEGIN:VEVENT
DTSTART;VALUE=DATE:20241201
DTEND;VALUE=DATE:20241215
DTSTAMP:20260424T141516
CREATED:20241202T170214Z
LAST-MODIFIED:20241202T170214Z
UID:3546-1733011200-1734220799@stadttunnel.de
SUMMARY:Bundestagspetition zur Bedarfsplanüberprüfung
DESCRIPTION:Die gesetzlich vorgeschriebene BPÜ (Bedarfsplanüberprüfung der Pläne des Bundesverkehrswegeplans) ist alle 5 Jahre fällig und aktuell seit 2021 überfällig . Bisher war die BPÜ nicht viel mehr als die Fortschreibung des alten Planes mit Basisprognose für die nächsten 5 Jahre. Traditionell ohne große Diskussion vom Parlament durchgewunken. Was wir brauchen\, ist aber eine qualifizierte BPÜ\, die ihren Namen auch verdient und die Klimaziele nicht nur berücksichtigt\, sondern sie als Grundlage aller Planungen betrachtet.\n\nEs geht dabei um viele unsinnige Aus- und Neubauprojekte wie auch die A860\, der Stadttunnel mit zwei Autobahnvollanschlüssen mitten in Freiburg\, die dringend überprüft gehören!\n\n\nEine grundlegende Entscheidung in Richtung nachhaltige und sozial gerechte Mobilität für alle muss endlich verbindlich getroffen werden. Dazu muss der BVWP2030 reformiert werden.\nEs wäre wichtig\, diese Petition als letzte Aktion vor der Wahl auf den Weg zu bringen.\n\n Deshalb: Bundestagspetition bis 13.12.24 unterschreiben unter https://epetitionen.bundestag.de/content/petitionen/_2024/_10/_17/Petition_173482.htmlWeitere Infos unter:https://www.parentsforfuture.de/bvwp
URL:https://stadttunnel.de/event/bundestagspetition-zur-bedarfsplanueberpruefung/
LOCATION:Baden-Württemberg
END:VEVENT
BEGIN:VEVENT
DTSTART;TZID=Europe/Berlin:20241013T133000
DTEND;TZID=Europe/Berlin:20241013T180000
DTSTAMP:20260424T141516
CREATED:20240806T073853Z
LAST-MODIFIED:20240829T104950Z
UID:3474-1728826200-1728842400@stadttunnel.de
SUMMARY:Wendetische im Sedanquartier
DESCRIPTION:
URL:https://stadttunnel.de/event/wendetische-im-sedanquartier/
LOCATION:Baden-Württemberg
ATTACH;FMTTYPE=image/jpeg:https://stadttunnel.de/wp-content/uploads/2024/08/Wendetische2024-rechteckig.jpg
END:VEVENT
BEGIN:VEVENT
DTSTART;VALUE=DATE:20240929
DTEND;VALUE=DATE:20240930
DTSTAMP:20260424T141516
CREATED:20240806T073756Z
LAST-MODIFIED:20240806T073756Z
UID:3472-1727568000-1727654399@stadttunnel.de
SUMMARY:Lorettoboulevard
DESCRIPTION:Näheres folgt.
URL:https://stadttunnel.de/event/lorettoboulevard/
LOCATION:Baden-Württemberg
END:VEVENT
BEGIN:VEVENT
DTSTART;VALUE=DATE:20240920
DTEND;VALUE=DATE:20240921
DTSTAMP:20260424T141516
CREATED:20240806T073656Z
LAST-MODIFIED:20240806T073918Z
UID:3470-1726790400-1726876799@stadttunnel.de
SUMMARY:Fridays4Future - Globaler Klimastreik
DESCRIPTION:Näheres folgt.
URL:https://stadttunnel.de/event/fridays4future-globaler-klimastreik/
LOCATION:Baden-Württemberg
END:VEVENT
BEGIN:VEVENT
DTSTART;TZID=Europe/Berlin:20240708T190000
DTEND;TZID=Europe/Berlin:20240708T210000
DTSTAMP:20260424T141516
CREATED:20240626T163453Z
LAST-MODIFIED:20240626T163453Z
UID:3464-1720465200-1720472400@stadttunnel.de
SUMMARY:Informationsabend & Stammtisch
DESCRIPTION:Thema: Verkehrsreduzierende Massnahmen in Freiburg\, besonders auf der B31 (Zubringer Mitte\, innerstädtisch)\n\n\n\nFachvortrag von Kurt Höllwarth: \n\n\n          „Der Lärmaktionsplan 2024 – eine Möglichkeit zur Verkehrsreduzierung“ \n\n\nAuswertung unserer „Wahlprüfsteine“ auch im Hinblick auf Forderungen an den neuen GR\n weitere Aktionen \nAussprache & Diskussion
URL:https://stadttunnel.de/event/informationsabend-stammtisch/
LOCATION:Gasthaus Schützen\, Schützenallee 12\, 79102 Freiburg
END:VEVENT
BEGIN:VEVENT
DTSTART;TZID=Europe/Berlin:20240602T140000
DTEND;TZID=Europe/Berlin:20240602T140000
DTSTAMP:20260424T141516
CREATED:20240515T204103Z
LAST-MODIFIED:20240515T204103Z
UID:3360-1717336800-1717336800@stadttunnel.de
SUMMARY:Wir sind die Brandmauer - Großdemo
DESCRIPTION:Großdemonstration gegen Rechtsextremismus in Freiburg.
URL:https://stadttunnel.de/event/wir-sind-die-brandmauer-grossdemo/
LOCATION:Platz der Alten Synagoge\, Bertoldstraße 30\, Freiburg\, Baden-Württemberg\, 79098\, Deutschland
END:VEVENT
BEGIN:VEVENT
DTSTART;TZID=Europe/Berlin:20240531T110000
DTEND;TZID=Europe/Berlin:20240531T110000
DTSTAMP:20260424T141516
CREATED:20240513T081917Z
LAST-MODIFIED:20240513T081950Z
UID:3274-1717153200-1717153200@stadttunnel.de
SUMMARY:EUROPAWEITER KLIMASTREIK AM 31. MAI
DESCRIPTION:Klimastreik zur Europawahl.
URL:https://stadttunnel.de/event/europaweiter-klimastreik-am-31-mai/
LOCATION:Augustinerplatz
END:VEVENT
BEGIN:VEVENT
DTSTART;TZID=Europe/Berlin:20240516T163000
DTEND;TZID=Europe/Berlin:20240516T163000
DTSTAMP:20260424T141516
CREATED:20240506T203342Z
LAST-MODIFIED:20240506T203845Z
UID:3256-1715877000-1715877000@stadttunnel.de
SUMMARY:Dreisamspaziergang
DESCRIPTION:Lebensqualität ist jetzt schon möglich\, auch ohne Autobahn und Stadttunnel! \nEin Spaziergang vom Schreiberpark zur Schwabentorbrücke mit Wulf Daseking (Stadtplaner und Architekt) und Gabi Dierdorf (Listenplatz 6 der Kulturliste) \nTreffpunkt: Brunnen in der Gartenstraße\, Ecke Schreiberstraße \nHandzettel zum Dreisamspaziergang
URL:https://stadttunnel.de/event/dreisamspaziergang/
LOCATION:Baden-Württemberg
END:VEVENT
BEGIN:VEVENT
DTSTART;TZID=Europe/Berlin:20240505T130000
DTEND;TZID=Europe/Berlin:20240505T180000
DTSTAMP:20260424T141516
CREATED:20240411T083525Z
LAST-MODIFIED:20240411T083739Z
UID:2932-1714914000-1714932000@stadttunnel.de
SUMMARY:Schlossbergring 4 Future
DESCRIPTION:Am 5.05. befreien wir den Schwabentorring vom Durchgangsverkehr und zeigen auf\, wie wir uns die Zukunft des Schwabentor- bzw. Schlossbergrings vorstellen. Weitere Infos unter:\nhttps://bw.vcd.org/der-vcd-in-bw/suedbaden/termine/schlossbergring-4-future
URL:https://stadttunnel.de/event/schlossbergring-4-future/
LOCATION:Schwabentorring
END:VEVENT
BEGIN:VEVENT
DTSTART;TZID=Europe/Berlin:20240420T120000
DTEND;TZID=Europe/Berlin:20240420T170000
DTSTAMP:20260424T141516
CREATED:20240414T171740Z
LAST-MODIFIED:20240414T171740Z
UID:2948-1713614400-1713632400@stadttunnel.de
SUMMARY:Thema "Verkehrswende"
DESCRIPTION:In einer Veranstaltung der „Letzten Generation“ informiert Gabi Dierdorf über den Stadttunnel/Autobahn A860 mit 2 Vollanschlüssen in der Stadt. \nWo: Freiburg\, Bismarckallee /  Ecke Eisenbahnstrasse
URL:https://stadttunnel.de/event/thema-verkehrswende/
LOCATION:Baden-Württemberg
END:VEVENT
BEGIN:VEVENT
DTSTART;TZID=Europe/Berlin:20240419T140000
DTEND;TZID=Europe/Berlin:20240419T170000
DTSTAMP:20260424T141516
CREATED:20240414T171348Z
LAST-MODIFIED:20240414T171348Z
UID:2946-1713535200-1713546000@stadttunnel.de
SUMMARY:Fahrraddemo „Verkehrswende jetzt!
DESCRIPTION:Infos hier
URL:https://stadttunnel.de/event/fahrraddemo-verkehrswende-jetzt/
LOCATION:Platz der Alten Synagoge\, Bertoldstraße 30\, Freiburg\, Baden-Württemberg\, 79098\, Deutschland
ORGANIZER;CN="Fridays%20for%20Future%20Freiburg":MAILTO:freiburg@fridaysforfuture.de
END:VEVENT
BEGIN:VEVENT
DTSTART;TZID=Europe/Berlin:20240417T193000
DTEND;TZID=Europe/Berlin:20240417T193000
DTSTAMP:20260424T141516
CREATED:20240414T170939Z
LAST-MODIFIED:20240414T171014Z
UID:2942-1713382200-1713382200@stadttunnel.de
SUMMARY:Filmvorführung „Autoland ist abgebrannt“
DESCRIPTION:Das LiDo (Littenweiler Dorfblatt) präsentiert den Film von Siggi Held\, in dem es inspirierendes Archivmaterial auch zum damaligen Kampf gegen die B31 zu sehen gibt. \nAnschließend Diskussion von Hubert Matt-Willmatt mit Siggi Held  auch zum Thema „Autobahn durch Freiburg“ / „Verkehrswende“. Infos hier.\nMittwoch 17.4. um 19:30 Uhr im „La Corona“ in Littenweiler.
URL:https://stadttunnel.de/event/filmvorfuehrung-autoland-ist-abgebrannt/
LOCATION:La Corona\, Littenweilerstraße 20\, Freiburg\, 79117
END:VEVENT
BEGIN:VEVENT
DTSTART;TZID=Europe/Berlin:20240313T190000
DTEND;TZID=Europe/Berlin:20240313T190000
DTSTAMP:20260424T141516
CREATED:20240308T120430Z
LAST-MODIFIED:20240308T122440Z
UID:2919-1710356400-1710356400@stadttunnel.de
SUMMARY:Infostammtisch
DESCRIPTION:Am 13. März wird unser Info-Stammtisch im Gasthof Schützen stattfinden.\nGeplant ist wieder ein Input zu aktuellen Themen wie Veranstaltungen zur Kommunalwahl (Wahlprüfsteine\, Dreisamspaziergang)\, Neues zum Lärmaktionsplan\, Bericht zur Zukunft der Breisgau S-Bahn\, Stand bei der Autobahn GmbH etc.\nDanach Aussprache.
URL:https://stadttunnel.de/event/infostammtisch/
LOCATION:Gasthaus Schützen\, Schützenallee 12\, 79102 Freiburg
END:VEVENT
BEGIN:VEVENT
DTSTART;TZID=Europe/Berlin:20240305T190000
DTEND;TZID=Europe/Berlin:20240305T190000
DTSTAMP:20260424T141516
CREATED:20240226T101325Z
LAST-MODIFIED:20240226T101355Z
UID:2914-1709665200-1709665200@stadttunnel.de
SUMMARY:Auf dem Weg zur Schwammstadt Freiburg
DESCRIPTION:Am Dienstag\, den 5. März um 19 Uhr in der Katholischen Akademie lädt die 0\,5%-Initiative  zur Veranstaltung „Auf dem Weg zur Schwammstadt Freiburg“.\nDas Ziel der Initiative des Regiowasser e.V.: Freiburg sollen jährlich 0.5% Flächen entsiegeln\, um besser gegen Überschwemmungen\, Dürre und Hitze geschützt zu sein. \nWie das geht und welche Erfahrungen damit in der Schweiz bereits gemacht werden\, soll am Dienstag Abend diskutiert werden.
URL:https://stadttunnel.de/event/auf-dem-weg-zur-schwammstadt-freiburg/
LOCATION:Katholische Akademie Freiburg\, Wintererstraße 1\, Freiburg
END:VEVENT
BEGIN:VEVENT
DTSTART;TZID=Europe/Berlin:20240301T100000
DTEND;TZID=Europe/Berlin:20240301T150000
DTSTAMP:20260424T141517
CREATED:20240123T103116Z
LAST-MODIFIED:20240123T103544Z
UID:2907-1709287200-1709305200@stadttunnel.de
SUMMARY:Klimastreik - Fridays fo Future & ver.di
DESCRIPTION:weitere Infos folgen
URL:https://stadttunnel.de/event/klimastreik-fridays-fo-future-ver-di/
LOCATION:Baden-Württemberg
END:VEVENT
BEGIN:VEVENT
DTSTART;TZID=Europe/Berlin:20240203T110000
DTEND;TZID=Europe/Berlin:20240203T130000
DTSTAMP:20260424T141517
CREATED:20240131T152844Z
LAST-MODIFIED:20240131T152844Z
UID:2911-1706958000-1706965200@stadttunnel.de
SUMMARY:Großdemonstration #WirSindDieBrandmauer
DESCRIPTION:Großdemonstration gegen Rechtsextremismus in Freiburg\n\n\n\n\nSamstag\, 03. Februar | 11:00 auf dem Platz der alten Synagoge
URL:https://stadttunnel.de/event/grossdemonstration-wirsinddiebrandmauer/
LOCATION:Platz der Alten Synagoge\, Bertoldstraße 30\, Freiburg\, Baden-Württemberg\, 79098\, Deutschland
END:VEVENT
BEGIN:VEVENT
DTSTART;TZID=Europe/Berlin:20240126T160000
DTEND;TZID=Europe/Berlin:20240126T190000
DTSTAMP:20260424T141517
CREATED:20240116T100707Z
LAST-MODIFIED:20240116T100707Z
UID:2871-1706284800-1706295600@stadttunnel.de
SUMMARY:STATTTUNNEL beim Neujahrsempfang des VCD
DESCRIPTION:Wir machen einen Infotisch STATTTUNNEL beim Neujahrsempfang des VCD. Alle Interessierten sind herzlich eingeladen!
URL:https://stadttunnel.de/event/statttunnel-beim-neujahrsempfang-des-vcd/
LOCATION:Haus der Jugend\, Uhlandstraße 2\, Freiburg
END:VEVENT
END:VCALENDAR