﻿BEGIN:VCALENDAR
VERSION:2.0
PRODID:-//Stadttunnel Freiburg - ECPv5.16.4//NONSGML v1.0//EN
CALSCALE:GREGORIAN
METHOD:PUBLISH
X-WR-CALNAME:Stadttunnel Freiburg
X-ORIGINAL-URL:https://stadttunnel.de
X-WR-CALDESC:Veranstaltungen für Stadttunnel Freiburg
REFRESH-INTERVAL;VALUE=DURATION:PT1H
X-Robots-Tag:noindex
X-PUBLISHED-TTL:PT1H
BEGIN:VTIMEZONE
TZID:Europe/Berlin
BEGIN:DAYLIGHT
TZOFFSETFROM:+0100
TZOFFSETTO:+0200
TZNAME:CEST
DTSTART:20210328T010000
END:DAYLIGHT
BEGIN:STANDARD
TZOFFSETFROM:+0200
TZOFFSETTO:+0100
TZNAME:CET
DTSTART:20211031T010000
END:STANDARD
END:VTIMEZONE
BEGIN:VEVENT
DTSTART;TZID=Europe/Berlin:20210713T190000
DTEND;TZID=Europe/Berlin:20210713T210000
DTSTAMP:20260426T054217
CREATED:20210713T091058Z
LAST-MODIFIED:20210713T154155Z
UID:1322-1626202800-1626210000@stadttunnel.de
SUMMARY:Im Gespräch mit den Kandidat:innen des Wahlkreises Freiburg
DESCRIPTION:Klimawahl 2021 – Veranstaltungsreihe zur Bundestagswahl\nIm Gespräch mit den Kandidat:innen des Wahlkreises Freiburg\nTeil 2: Wie wollen wir in Zukunft wirtschaften? \nmit Chantal Kopf (Gruene)\,\nMatern von Marshall (CDU)\,\nAnna Rasputina (Volt)\nAnmeldung erforderlich \nProgramm: \nBegrüßung und Vorstellung der Agenda (Sarah Gari)\nsowie der Kandidat:innen und beteiligten Initiativen (Michael Rudolph) \nThemenbereich 1 „Neue Wirtschaftsmodelle“\n(Moderation: Michael Rudolph\, ca. 20 Minuten) \nReinhard Bielefeld (GWÖ) stellt Frage\, Kandidat:innen antworten nacheinander in Kurzantworten\, anschließend offene Diskussion \nThemenbereich 2 „Wie kommen wir zu wahren und wirksamen Preisen?“\n(Moderation: Sarah Gari\, ca. 20 Minuten) \nJörg Lange (CO2 Abgabe e.V.\, www.waehlbar2021.de) führt in das Thema ein und stellt die Fragen\, Kurzantworten der Kandidat:innen\, anschließend offene Diskussion \nFragen / Kommentare aus dem Plenum\n(Moderation: Sarah Gari & Michael Rudolph\, max. 30 Minuten) \nAnmeldungen und Informationen zu den vergangenen und weiteren Veranstaltung der Reihe „Klimawahl2021“ unter: https://waehlbar2021/klimawahl2021-freiburg
URL:https://stadttunnel.de/event/klimawahl-2021/
LOCATION:online
END:VEVENT
BEGIN:VEVENT
DTSTART;TZID=Europe/Berlin:20210720T190000
DTEND;TZID=Europe/Berlin:20210720T203000
DTSTAMP:20260426T054217
CREATED:20210713T153059Z
LAST-MODIFIED:20210713T154107Z
UID:1356-1626807600-1626813000@stadttunnel.de
SUMMARY:Im Gespräch mit den Kandidat:innen des Wahlkreises Freiburg
DESCRIPTION:Klimawahl 2021 – Veranstaltungsreihe zur Bundestagswahl\nIm Gespräch mit den Kandidat:innen des Wahlkreises Freiburg\nTeil 3: Vom Wissen zum Handeln – wie sieht eine klimagerechte Bildung aus?\nmit Chantal Kopf (Gruene)\, Matern von Marshall (CDU) angefragt\, Tobias Pflüger (Linke)\, Claudia Raffelhüschen (FDP)\, Viviane Figg (SPD)\nAnmeldung erforderlich
URL:https://stadttunnel.de/event/im-gespraech-mit-den-kandidatinnen-des-wahlkreises-freiburg/
LOCATION:online
END:VEVENT
END:VCALENDAR