﻿BEGIN:VCALENDAR
VERSION:2.0
PRODID:-//Stadttunnel Freiburg - ECPv5.16.4//NONSGML v1.0//EN
CALSCALE:GREGORIAN
METHOD:PUBLISH
X-WR-CALNAME:Stadttunnel Freiburg
X-ORIGINAL-URL:https://stadttunnel.de
X-WR-CALDESC:Veranstaltungen für Stadttunnel Freiburg
REFRESH-INTERVAL;VALUE=DURATION:PT1H
X-Robots-Tag:noindex
X-PUBLISHED-TTL:PT1H
BEGIN:VTIMEZONE
TZID:Europe/Berlin
BEGIN:DAYLIGHT
TZOFFSETFROM:+0100
TZOFFSETTO:+0200
TZNAME:CEST
DTSTART:20210328T010000
END:DAYLIGHT
BEGIN:STANDARD
TZOFFSETFROM:+0200
TZOFFSETTO:+0100
TZNAME:CET
DTSTART:20211031T010000
END:STANDARD
END:VTIMEZONE
BEGIN:VEVENT
DTSTART;TZID=Europe/Berlin:20210806T170000
DTEND;TZID=Europe/Berlin:20210806T170000
DTSTAMP:20260426T043228
CREATED:20210804T101621Z
LAST-MODIFIED:20210804T103337Z
UID:1511-1628269200-1628269200@stadttunnel.de
SUMMARY:Große Fahrraddemo
DESCRIPTION:Die Bundestagswahl steht vor der Tür und wir müssen nicht nur auf dem Wahlzettel unsere Stimmen nutzen\, damit die Wahlen zu echten Klimawahlen werden! Seid laut\, geht am 6. August auf die Straße: UseYourVoice – wir haben eine Zukunft zu gewinnenBitte denke an dein Fahrrad und eine medizinische Maske \nHier gibts weitere Infos: https://freiburgforfuture.de/termin/3-fahrraddemo-useyourvoice/
URL:https://stadttunnel.de/event/grosse-fahrraddemo/
LOCATION:Rathaus im Stühlinger
ORGANIZER;CN="Fridays%20for%20Future%20Freiburg":MAILTO:freiburg@fridaysforfuture.de
END:VEVENT
END:VCALENDAR