﻿BEGIN:VCALENDAR
VERSION:2.0
PRODID:-//Stadttunnel Freiburg - ECPv5.16.4//NONSGML v1.0//EN
CALSCALE:GREGORIAN
METHOD:PUBLISH
X-ORIGINAL-URL:https://stadttunnel.de
X-WR-CALDESC:Veranstaltungen für Stadttunnel Freiburg
REFRESH-INTERVAL;VALUE=DURATION:PT1H
X-Robots-Tag:noindex
X-PUBLISHED-TTL:PT1H
BEGIN:VTIMEZONE
TZID:Europe/Berlin
BEGIN:DAYLIGHT
TZOFFSETFROM:+0100
TZOFFSETTO:+0200
TZNAME:CEST
DTSTART:20210328T010000
END:DAYLIGHT
BEGIN:STANDARD
TZOFFSETFROM:+0200
TZOFFSETTO:+0100
TZNAME:CET
DTSTART:20211031T010000
END:STANDARD
END:VTIMEZONE
BEGIN:VEVENT
DTSTART;TZID=Europe/Berlin:20210907T193000
DTEND;TZID=Europe/Berlin:20210907T203000
DTSTAMP:20260426T031624
CREATED:20210713T153652Z
LAST-MODIFIED:20210731T120309Z
UID:1361-1631043000-1631046600@stadttunnel.de
SUMMARY:Energiewende: Im Gespräch mit den Kandidat:innen des Wahlkreises Freiburg
DESCRIPTION:Klimawahl 2021 – Veranstaltungsreihe zur Bundestagswahl\nIm Gespräch mit den Kandidat:innen des Wahlkreises Freiburg\nTeil 4: Wie starten wir mit der Energiewende endlich durch?\nmit Chantal Kopf (Gruene)\, Matern von Marshall (CDU) angefragt\, Tobias Pflüger (Linke)\, Julia Söhne (SPD)\, \nAnmeldung erforderlich
URL:https://stadttunnel.de/event/im-gespraech-mit-den-kandidatinnen-des-wahlkreises-freiburg-2/
LOCATION:online
END:VEVENT
BEGIN:VEVENT
DTSTART;TZID=Europe/Berlin:20210914T190000
DTEND;TZID=Europe/Berlin:20210914T190000
DTSTAMP:20260426T031624
CREATED:20210826T174418Z
LAST-MODIFIED:20210826T174418Z
UID:1639-1631646000-1631646000@stadttunnel.de
SUMMARY:"Autoland abgebrannt“ - Filmpremiere von Siggi Held
DESCRIPTION:Ein Bündnis aus BUND Regionalverband Südlicher Oberrhein\, NABU\, (…) und DGB-Stadtverband Freiburg veranstaltet die Uraufführung mit anschließender Diskussion angesichts der aktuellen Auseinandersetzungen um die B31-West-neu und B31-Ost.\nPandemiebedingt ist eine Anmeldung unter info@bund-fr.de erforderlich. Es gelten die 3g Regeln.
URL:https://stadttunnel.de/event/autoland-abgebrannt-filmpremiere-von-siggi-held/
LOCATION:Gewerkschaftshaus Freiburg\, Friedrichstr. 41 - 43\, Freiburg
END:VEVENT
BEGIN:VEVENT
DTSTART;TZID=Europe/Berlin:20210915T190000
DTEND;TZID=Europe/Berlin:20210915T210000
DTSTAMP:20260426T031624
CREATED:20210713T154643Z
LAST-MODIFIED:20210810T092341Z
UID:1367-1631732400-1631739600@stadttunnel.de
SUMMARY:Die Zukunft der Mobilität: Im Gespräch mit den Kandidat:innen des Wahlkreises Freiburg
DESCRIPTION:Klimawahl 2021 – Veranstaltungsreihe zur Bundestagswahl\nIm Gespräch mit den Kandidat:innen des Wahlkreises Freiburg\nTeil 5: Die Zukunft der Mobilität\nPräsenzveranstaltung \nam Mittwoch\, den 15.9.2021\, 19 Uhr – 21 Uhr\nim E-Werk\, Freiburg\nmit Chantal Kopf (Grüne)\, Anna Rasputina (Volt)\, Tobias Pflüger (Linke)\, Julia Söhne (SPD)\, Claudia Raffelhüschen (FDP)\, Matern von Marschall (CDU)\nAnmeldung erforderlich
URL:https://stadttunnel.de/event/im-gespraech-mit-den-kandidatinnen-des-wahlkreises-freiburg-3/
LOCATION:E-Werk Freiburg\, Eschholzstrasse 77\, Freiburg\, 79106
END:VEVENT
BEGIN:VEVENT
DTSTART;TZID=Europe/Berlin:20210919T130000
DTEND;TZID=Europe/Berlin:20210919T163000
DTSTAMP:20260426T031624
CREATED:20210913T090036Z
LAST-MODIFIED:20210913T090036Z
UID:1650-1632056400-1632069000@stadttunnel.de
SUMMARY:Aktionstag gegen den Weiterbau der B31 West
DESCRIPTION:Am Sonntag\, 19.09.21 findet ein großer Aktionstag gegen den Weiterbau der B31 West statt: \nUnter dem Motto „Aktionstag B31 – Nein Danke! Mobilitätswende jetzt“ ruf dazu das Bündnis der Bürgerinitiativen aus Gottenheim\, Gündlingen/Hochstetten\, Merdingen und der „Stimmen aus der Bürgerschaft“ von Ihringen auf – unterstützt von Organisationen wie BUND\, BUND-Jugend\, LNV\, VCD\, NABU. \nAusgehend von Gottenheim und von Hochstetten setzen sich zwei Demonstrationszüge bestehend aus Fahrrädern und Traktoren zum zentralen Kundgebungsort nach Merdingen in Bewegung. Unterwegs werden die Gündlinger und Ihringer abgeholt. \nStartzeiten der Fahrrad- und Traktoren Demos: \n\nHochstetten\, 13:00 Uhr\, Verenenkapelle\nGündlingen\, 13:30 Uhr\, Hohweg\nIhringen\, 13:45 Uhr\, Krebsbach\nGottenheim\, 14:00 Uhr\, Umkircher Str. 3 (Winzergenossenschaft)\n\n  \nZentrale Kundgebung ist um 15:00 in Merdingen mit Redebeiträgen der Bürgerinitiativen\, Naturschutzverbände und Bundestagskandidat*innen \nZiel ist es den Entscheidungsträgern zu zeigen\, dass die Menschen die Bundesstraße nicht wollen und fordern den Weiterbau der B31 West zu stoppen. Stattdessen ist der ÖPNV zuverlässig auszubauen\, die alternativen Mobilitätskonzepte\, wie z.B. Fahrradschnellwege unverzüglich umzusetzen und die jetzige Kulturlandschaft zu erhalten. Damit wird ein wesentlicher Baustein zur Mobilitätswende und ein sehr wichtiger Beitrag gegen den immer stärker werdenden Klimawandel geleistet. \nIm Anschluss an die Kundgebung\, ist bei einem Stück Kuchen oder deftigen Laugengebäck die Gelegenheit\, das Thema zu diskutieren und sich den Infostand anzuschauen. Die Landfrauenvereine aus Merdingen\, Breisach-Gündlingen-Niederrimsingen und Gottenheim bieten auch Getränke an. \nAlle denen das Radeln bis Gottenheim zu weit ist\, könnten auch die Breisgau S-Bahn in Richtung Breisach bis Gottenheim nehmen. Die Fahrradmitnahme ist kostenlos. \nWir würden uns riesig freuen\, wenn ihr zahlreich mitradelt oder direkt zur Kundgebung kommt und auch diese Info an ganz viele weiterleitet. \nBürgerinitiative B31 West – Nein Danke\nwww.b31west-neindanke.de \n 
URL:https://stadttunnel.de/event/aktionstag-gegen-den-weiterbau-der-b31-west/
LOCATION:Baden-Württemberg
END:VEVENT
BEGIN:VEVENT
DTSTART;TZID=Europe/Berlin:20210923T193000
DTEND;TZID=Europe/Berlin:20210923T220000
DTSTAMP:20260426T031624
CREATED:20210917T124518Z
LAST-MODIFIED:20210917T124518Z
UID:1705-1632425400-1632434400@stadttunnel.de
SUMMARY:Film AUTOLAND ABGEBRANNT
DESCRIPTION:Link zum Kino
URL:https://stadttunnel.de/event/film-autoland-abgebrannt/
LOCATION:Kommunales Kino\, Uracher Straße\, Freiburg\, 79102
END:VEVENT
BEGIN:VEVENT
DTSTART;TZID=Europe/Berlin:20210924T100000
DTEND;TZID=Europe/Berlin:20210924T100000
DTSTAMP:20260426T031624
CREATED:20210804T102147Z
LAST-MODIFIED:20210804T103526Z
UID:1515-1632477600-1632477600@stadttunnel.de
SUMMARY:GLOBALER KLIMASTREIK - #AlleFürsKlima
DESCRIPTION:Der nächste globale Klimastreik findet um 10 Uhr am Platz der Alten Synagoge statt! Gemeinsam sind wir zwei Tage vor der Bundestagswahl nochmal richtig laut – für eine sichere und gerechte Zukunft.\nHier gibts weitere Infos: https://freiburgforfuture.de/24-09/
URL:https://stadttunnel.de/event/globaler-klimastreik-allefuersklima/
LOCATION:Platz der Alten Synagoge\, Bertoldstraße 30\, Freiburg\, Baden-Württemberg\, 79098\, Deutschland
ORGANIZER;CN="Fridays%20for%20Future%20Freiburg":MAILTO:freiburg@fridaysforfuture.de
END:VEVENT
END:VCALENDAR