﻿BEGIN:VCALENDAR
VERSION:2.0
PRODID:-//Stadttunnel Freiburg - ECPv5.16.4//NONSGML v1.0//EN
CALSCALE:GREGORIAN
METHOD:PUBLISH
X-WR-CALNAME:Stadttunnel Freiburg
X-ORIGINAL-URL:https://stadttunnel.de
X-WR-CALDESC:Veranstaltungen für Stadttunnel Freiburg
REFRESH-INTERVAL;VALUE=DURATION:PT1H
X-Robots-Tag:noindex
X-PUBLISHED-TTL:PT1H
BEGIN:VTIMEZONE
TZID:Europe/Berlin
BEGIN:DAYLIGHT
TZOFFSETFROM:+0100
TZOFFSETTO:+0200
TZNAME:CEST
DTSTART:20210328T010000
END:DAYLIGHT
BEGIN:STANDARD
TZOFFSETFROM:+0200
TZOFFSETTO:+0100
TZNAME:CET
DTSTART:20211031T010000
END:STANDARD
END:VTIMEZONE
BEGIN:VEVENT
DTSTART;TZID=Europe/Berlin:20211003T110000
DTEND;TZID=Europe/Berlin:20211003T140000
DTSTAMP:20260426T014402
CREATED:20210719T095804Z
LAST-MODIFIED:20210916T140341Z
UID:1473-1633258800-1633269600@stadttunnel.de
SUMMARY:Klimatische
DESCRIPTION:Am 3. Oktober möchten wir in Freiburg das Klima auf die Tische bringen. Klima-\, Umwelt- und  Sozialgruppen stellen zusammen mit den Anwohner*innen Tische und Stühle auf die Straßen und erobern damit den öffentlichen Raum – Menschen anstatt Autos. \nvon 11.00 bis 14.00 Uhr auf der B31 zwischen Einmuendung Hildastraße bis Dreikönigstraße
URL:https://stadttunnel.de/event/klimatische/
LOCATION:Schwarzwaldstrasse
END:VEVENT
END:VCALENDAR