﻿BEGIN:VCALENDAR
VERSION:2.0
PRODID:-//Stadttunnel Freiburg - ECPv5.16.4//NONSGML v1.0//EN
CALSCALE:GREGORIAN
METHOD:PUBLISH
X-WR-CALNAME:Stadttunnel Freiburg
X-ORIGINAL-URL:https://stadttunnel.de
X-WR-CALDESC:Veranstaltungen für Stadttunnel Freiburg
REFRESH-INTERVAL;VALUE=DURATION:PT1H
X-Robots-Tag:noindex
X-PUBLISHED-TTL:PT1H
BEGIN:VTIMEZONE
TZID:Europe/Berlin
BEGIN:DAYLIGHT
TZOFFSETFROM:+0100
TZOFFSETTO:+0200
TZNAME:CEST
DTSTART:20220327T010000
END:DAYLIGHT
BEGIN:STANDARD
TZOFFSETFROM:+0200
TZOFFSETTO:+0100
TZNAME:CET
DTSTART:20221030T010000
END:STANDARD
BEGIN:DAYLIGHT
TZOFFSETFROM:+0100
TZOFFSETTO:+0200
TZNAME:CEST
DTSTART:20230326T010000
END:DAYLIGHT
BEGIN:STANDARD
TZOFFSETFROM:+0200
TZOFFSETTO:+0100
TZNAME:CET
DTSTART:20231029T010000
END:STANDARD
BEGIN:DAYLIGHT
TZOFFSETFROM:+0100
TZOFFSETTO:+0200
TZNAME:CEST
DTSTART:20240331T010000
END:DAYLIGHT
BEGIN:STANDARD
TZOFFSETFROM:+0200
TZOFFSETTO:+0100
TZNAME:CET
DTSTART:20241027T010000
END:STANDARD
END:VTIMEZONE
BEGIN:VEVENT
DTSTART;VALUE=DATE:20220703
DTEND;VALUE=DATE:20240704
DTSTAMP:20260425T053710
CREATED:20220705T130733Z
LAST-MODIFIED:20240829T093235Z
UID:2167-1656806400-1720051199@stadttunnel.de
SUMMARY:KLIMACAMP FREIBURG
DESCRIPTION:Statttunnel- keine Autobahn durch Freiburg! unterstützt das Klimacamp auf dem Rathausmarkt und die mehr als berechtigten Forderungen \nForderungen
URL:https://stadttunnel.de/event/klimacamp-freiburg/
LOCATION:Baden-Württemberg
END:VEVENT
BEGIN:VEVENT
DTSTART;TZID=Europe/Berlin:20221208T193000
DTEND;TZID=Europe/Berlin:20221208T193000
DTSTAMP:20260425T053710
CREATED:20221130T122037Z
LAST-MODIFIED:20221130T122037Z
UID:2406-1670527800-1670527800@stadttunnel.de
SUMMARY:Infoveranstaltung zur „Verkehrsuntersuchung A 860 Stadttunnel Freiburg“
DESCRIPTION:Die Autobahn GmbH lädt zu einer Infoveranstaltung zur „Verkehrsuntersuchung A 860 Stadttunnel Freiburg“ ins Konzerthaus Freiburg.\n \nWir wollen gemeinsam mit vielen VertreterInnen der Freiburger Mobilität-Wende und Umwelt Initiativen teilnehmen.\nAnmeldung hier: https://eveeno.com/stadttunnel\n 
URL:https://stadttunnel.de/event/infoveranstaltung-zur-verkehrsuntersuchung-a-860-stadttunnel-freiburg/
LOCATION:Konzerthaus\, Konrad-Adenauer-Platz 1\, Freiburg\, 79098
END:VEVENT
BEGIN:VEVENT
DTSTART;TZID=Europe/Berlin:20221212T093000
DTEND;TZID=Europe/Berlin:20221212T170000
DTSTAMP:20260425T053710
CREATED:20221130T122158Z
LAST-MODIFIED:20221130T122158Z
UID:2410-1670837400-1670864400@stadttunnel.de
SUMMARY:Mobi-Wende Gruppen am Stand des Klimacamps
DESCRIPTION:Mobi-Wende Gruppen am Stand des Klimacamps auf dem Weihnachtsmarkt\, ab 9:30 \n 
URL:https://stadttunnel.de/event/mobi-wende-gruppen-am-stand-des-klimacamps/
LOCATION:Baden-Württemberg
END:VEVENT
BEGIN:VEVENT
DTSTART;TZID=Europe/Berlin:20221213T140000
DTEND;TZID=Europe/Berlin:20221213T203000
DTSTAMP:20260425T053710
CREATED:20221130T122632Z
LAST-MODIFIED:20221130T122632Z
UID:2413-1670940000-1670963400@stadttunnel.de
SUMMARY:Initiative Statttunnel am Stand des Klimacamps auf dem Weihnachtsmarkt
DESCRIPTION:
URL:https://stadttunnel.de/event/initiative-statttunnel-am-stand-des-klimacamps-auf-dem-weihnachtsmarkt/
LOCATION:Baden-Württemberg
END:VEVENT
END:VCALENDAR