﻿BEGIN:VCALENDAR
VERSION:2.0
PRODID:-//Stadttunnel Freiburg - ECPv5.16.4//NONSGML v1.0//EN
CALSCALE:GREGORIAN
METHOD:PUBLISH
X-WR-CALNAME:Stadttunnel Freiburg
X-ORIGINAL-URL:https://stadttunnel.de
X-WR-CALDESC:Veranstaltungen für Stadttunnel Freiburg
REFRESH-INTERVAL;VALUE=DURATION:PT1H
X-Robots-Tag:noindex
X-PUBLISHED-TTL:PT1H
BEGIN:VTIMEZONE
TZID:Europe/Berlin
BEGIN:DAYLIGHT
TZOFFSETFROM:+0100
TZOFFSETTO:+0200
TZNAME:CEST
DTSTART:20220327T010000
END:DAYLIGHT
BEGIN:STANDARD
TZOFFSETFROM:+0200
TZOFFSETTO:+0100
TZNAME:CET
DTSTART:20221030T010000
END:STANDARD
BEGIN:DAYLIGHT
TZOFFSETFROM:+0100
TZOFFSETTO:+0200
TZNAME:CEST
DTSTART:20230326T010000
END:DAYLIGHT
BEGIN:STANDARD
TZOFFSETFROM:+0200
TZOFFSETTO:+0100
TZNAME:CET
DTSTART:20231029T010000
END:STANDARD
BEGIN:DAYLIGHT
TZOFFSETFROM:+0100
TZOFFSETTO:+0200
TZNAME:CEST
DTSTART:20240331T010000
END:DAYLIGHT
BEGIN:STANDARD
TZOFFSETFROM:+0200
TZOFFSETTO:+0100
TZNAME:CET
DTSTART:20241027T010000
END:STANDARD
END:VTIMEZONE
BEGIN:VEVENT
DTSTART;VALUE=DATE:20220703
DTEND;VALUE=DATE:20240704
DTSTAMP:20260424T174619
CREATED:20220705T130733Z
LAST-MODIFIED:20240829T093235Z
UID:2167-1656806400-1720051199@stadttunnel.de
SUMMARY:KLIMACAMP FREIBURG
DESCRIPTION:Statttunnel- keine Autobahn durch Freiburg! unterstützt das Klimacamp auf dem Rathausmarkt und die mehr als berechtigten Forderungen \nForderungen
URL:https://stadttunnel.de/event/klimacamp-freiburg/
LOCATION:Baden-Württemberg
END:VEVENT
BEGIN:VEVENT
DTSTART;TZID=Europe/Berlin:20230915T130000
DTEND;TZID=Europe/Berlin:20230915T160000
DTSTAMP:20260424T174619
CREATED:20230807T105410Z
LAST-MODIFIED:20230912T140740Z
UID:2747-1694782800-1694793600@stadttunnel.de
SUMMARY:FFF - Globaler Klimastreik
DESCRIPTION:Start um 13 Uhr auf dem Platz der Alten Synagoge.\nTreffpunkt Statt-Tunnel ab 12:50 Uhr vor dem Theater.\nAb 13 Uhr div. Redebeiträge\, danach Demozug über Rotteckring und Teilung am Fahnenbergplatz;\nStatt-Tunnel geht über Ka-Jo zur Rempartstrasse mit weiteren Reden.
URL:https://stadttunnel.de/event/fff-globaler-klimastreik/
LOCATION:Platz der Alten Synagoge\, Bertoldstraße 30\, Freiburg\, Baden-Württemberg\, 79098\, Deutschland
END:VEVENT
BEGIN:VEVENT
DTSTART;TZID=Europe/Berlin:20230916T120000
DTEND;TZID=Europe/Berlin:20230916T180000
DTSTAMP:20260424T174619
CREATED:20230807T105918Z
LAST-MODIFIED:20230912T140851Z
UID:2749-1694865600-1694887200@stadttunnel.de
SUMMARY:Europäischen Mobilitätswoche - Aktionstag der Stadt Freiburg
DESCRIPTION:Im Rahmen der Europäischen Mobilitätswoche findet am 16.09. auch ein Aktionstag der Stadt Freiburg auf dem alten Messplatz statt.
URL:https://stadttunnel.de/event/europaeischen-mobilitaetswoche/
LOCATION:Alter Messplatz\, Schützenallee 72\, Freiburg\, 79117
END:VEVENT
BEGIN:VEVENT
DTSTART;TZID=Europe/Berlin:20230917T110000
DTEND;TZID=Europe/Berlin:20230917T170000
DTSTAMP:20260424T174619
CREATED:20230912T141432Z
LAST-MODIFIED:20230912T141432Z
UID:2766-1694948400-1694970000@stadttunnel.de
SUMMARY:Pop-up Boulevard in der Lorettostraße
DESCRIPTION:
URL:https://stadttunnel.de/event/pop-up-boulevard-in-der-lorettostrasse/
LOCATION:Baden-Württemberg
END:VEVENT
BEGIN:VEVENT
DTSTART;TZID=Europe/Berlin:20230920T160000
DTEND;TZID=Europe/Berlin:20230920T190000
DTSTAMP:20260424T174619
CREATED:20230912T141811Z
LAST-MODIFIED:20230912T141811Z
UID:2772-1695225600-1695236400@stadttunnel.de
SUMMARY:BUND - Onlineveranstaltung zur klima- und umweltverträglichen Mobilitätswende
DESCRIPTION:https://aktion.bund.net/online-panel-mobilitaetswende-2023
URL:https://stadttunnel.de/event/bund-onlineveranstaltung-zur-klima-und-umweltvertraeglichen-mobilitaetswende/
LOCATION:Baden-Württemberg
END:VEVENT
BEGIN:VEVENT
DTSTART;TZID=Europe/Berlin:20230923T110000
DTEND;TZID=Europe/Berlin:20230923T170000
DTSTAMP:20260424T174619
CREATED:20230912T141538Z
LAST-MODIFIED:20230912T141538Z
UID:2768-1695466800-1695488400@stadttunnel.de
SUMMARY:Pop-up Boulevard in der Carl-Kistner-Straße
DESCRIPTION:
URL:https://stadttunnel.de/event/pop-up-boulevard-in-der-carl-kistner-strasse/
LOCATION:Baden-Württemberg
END:VEVENT
END:VCALENDAR